BEGIN:VCALENDAR
VERSION:2.0
PRODID:-//Söderbärke hembygdsförening - ECPv6.15.18//NONSGML v1.0//EN
CALSCALE:GREGORIAN
METHOD:PUBLISH
X-ORIGINAL-URL:https://xn--sderbrkehembygdsfrening-z7b95bra.se
X-WR-CALDESC:Händelser för Söderbärke hembygdsförening
REFRESH-INTERVAL;VALUE=DURATION:PT1H
X-Robots-Tag:noindex
X-PUBLISHED-TTL:PT1H
BEGIN:VTIMEZONE
TZID:Europe/Stockholm
BEGIN:DAYLIGHT
TZOFFSETFROM:+0100
TZOFFSETTO:+0200
TZNAME:CEST
DTSTART:20190331T010000
END:DAYLIGHT
BEGIN:STANDARD
TZOFFSETFROM:+0200
TZOFFSETTO:+0100
TZNAME:CET
DTSTART:20191027T010000
END:STANDARD
BEGIN:DAYLIGHT
TZOFFSETFROM:+0100
TZOFFSETTO:+0200
TZNAME:CEST
DTSTART:20200329T010000
END:DAYLIGHT
BEGIN:STANDARD
TZOFFSETFROM:+0200
TZOFFSETTO:+0100
TZNAME:CET
DTSTART:20201025T010000
END:STANDARD
BEGIN:DAYLIGHT
TZOFFSETFROM:+0100
TZOFFSETTO:+0200
TZNAME:CEST
DTSTART:20210328T010000
END:DAYLIGHT
BEGIN:STANDARD
TZOFFSETFROM:+0200
TZOFFSETTO:+0100
TZNAME:CET
DTSTART:20211031T010000
END:STANDARD
BEGIN:DAYLIGHT
TZOFFSETFROM:+0100
TZOFFSETTO:+0200
TZNAME:CEST
DTSTART:20220327T010000
END:DAYLIGHT
BEGIN:STANDARD
TZOFFSETFROM:+0200
TZOFFSETTO:+0100
TZNAME:CET
DTSTART:20221030T010000
END:STANDARD
END:VTIMEZONE
BEGIN:VEVENT
DTSTART;TZID=Europe/Stockholm:20210822T170000
DTEND;TZID=Europe/Stockholm:20210822T190000
DTSTAMP:20260419T213607
CREATED:20210821T053602Z
LAST-MODIFIED:20210821T053824Z
UID:7264-1629651600-1629658800@xn--sderbrkehembygdsfrening-z7b95bra.se
SUMMARY:Årsmöte
DESCRIPTION:Söndagen den 22 augusti kl 17 anordnas hembygdsföreningens årsmöte. Plats: församlingshemmet.
URL:https://xn--sderbrkehembygdsfrening-z7b95bra.se/event/arsmote/
END:VEVENT
BEGIN:VEVENT
DTSTART;TZID=Europe/Stockholm:20200816T110000
DTEND;TZID=Europe/Stockholm:20200816T123000
DTSTAMP:20260419T213607
CREATED:20200331T072120Z
LAST-MODIFIED:20200331T072120Z
UID:7082-1597575600-1597581000@xn--sderbrkehembygdsfrening-z7b95bra.se
SUMMARY:Gudstjänster på Tunet
DESCRIPTION:Kyrkan går utomhus sommartid. Sommaren 2020 kommer gudstjänster att hållas på Tunet 28 juni\, 12 och 19 juli samt 2 och 16 aug. Vid regn hålls gudstjänsterna i kyrkan.
URL:https://xn--sderbrkehembygdsfrening-z7b95bra.se/event/gudstjanster-pa-tunet-5/
END:VEVENT
BEGIN:VEVENT
DTSTART;VALUE=DATE:20200807
DTEND;VALUE=DATE:20200811
DTSTAMP:20260419T213607
CREATED:20200331T071459Z
LAST-MODIFIED:20200331T071459Z
UID:7071-1596758400-1597103999@xn--sderbrkehembygdsfrening-z7b95bra.se
SUMMARY:Augustifesten
DESCRIPTION:Vecka 33 Augustifesten \n 7/8 Öppningskonsert i Söderbärke kyrka kl 18 \n8-10/8 Skilda arrangemang i Söderbärke \nResten av veckan sker genomförandet i Smedjebacken. 
URL:https://xn--sderbrkehembygdsfrening-z7b95bra.se/event/augustifesten/
END:VEVENT
BEGIN:VEVENT
DTSTART;TZID=Europe/Stockholm:20200802T110000
DTEND;TZID=Europe/Stockholm:20200802T123000
DTSTAMP:20260419T213607
CREATED:20200331T072025Z
LAST-MODIFIED:20200331T072025Z
UID:7079-1596366000-1596371400@xn--sderbrkehembygdsfrening-z7b95bra.se
SUMMARY:Gudstjänster på Tunet
DESCRIPTION:Kyrkan går utomhus sommartid. Sommaren 2020 kommer gudstjänster att hållas på Tunet 28 juni\, 12 och 19 juli samt 2 och 16 aug. Vid regn hålls gudstjänsterna i kyrkan.
URL:https://xn--sderbrkehembygdsfrening-z7b95bra.se/event/gudstjanster-pa-tunet-4/
END:VEVENT
BEGIN:VEVENT
DTSTART;TZID=Europe/Stockholm:20200719T110000
DTEND;TZID=Europe/Stockholm:20200719T123000
DTSTAMP:20260419T213607
CREATED:20200331T071933Z
LAST-MODIFIED:20220517T193656Z
UID:7077-1595156400-1595161800@xn--sderbrkehembygdsfrening-z7b95bra.se
SUMMARY:Gudstjänster på Tunet
DESCRIPTION:Kyrkan går utomhus sommartid. Sommaren 2020 kommer gudstjänster att hållas på Tunet 28 juni\, 12 och 19 juli samt 2 och 16 aug. Vid regn hålls gudstjänsterna i kyrkan. \n 
URL:https://xn--sderbrkehembygdsfrening-z7b95bra.se/event/gudstjanster-pa-tunet-3/
ATTACH;FMTTYPE=image/jpeg:https://xn--sderbrkehembygdsfrening-z7b95bra.se/wp-content/uploads/2015/08/kafe2.jpg
END:VEVENT
BEGIN:VEVENT
DTSTART;VALUE=DATE:20200714
DTEND;VALUE=DATE:20200719
DTSTAMP:20260419T213607
CREATED:20200331T071215Z
LAST-MODIFIED:20200331T071302Z
UID:7068-1594684800-1595116799@xn--sderbrkehembygdsfrening-z7b95bra.se
SUMMARY:Söderbärkeveckan
DESCRIPTION:Vecka 29 Söderbärkeveckan  \n14 juli kl 10 Brandstationen. Visning av brandredskap och skogsredskap. Andra tider enl ö. Göran Bäcklund 0705-664912 1 \n5 juli kl 10 Kyrkogården Kyrkogårdsvandring med visning av skyddsvärda gravar \n18 juli från kl 10 Söderbärkelördan. Hantverksdag på Hembygdsgårdens tun. Genuint hantverk och regional mat till försäljning Paul Eriksson muséet visas dagligen hela veckan. \nkl 14 Söderbärke öppna. Olika roddarlag tävlar med kyrkbåtar om äran att stå som bästa team. 
URL:https://xn--sderbrkehembygdsfrening-z7b95bra.se/event/soderbarkeveckan/
END:VEVENT
BEGIN:VEVENT
DTSTART;TZID=Europe/Stockholm:20200712T110000
DTEND;TZID=Europe/Stockholm:20200712T123000
DTSTAMP:20260419T213607
CREATED:20200331T071837Z
LAST-MODIFIED:20200331T071837Z
UID:7075-1594551600-1594557000@xn--sderbrkehembygdsfrening-z7b95bra.se
SUMMARY:Gudstjänster på Tunet
DESCRIPTION:Kyrkan går utomhus sommartid. Sommaren 2020 kommer gudstjänster att hållas på Tunet 28 juni\, 12 och 19 juli samt 2 och 16 aug. Vid regn hålls gudstjänsterna i kyrkan.
URL:https://xn--sderbrkehembygdsfrening-z7b95bra.se/event/gudstjanster-pa-tunet-2/
END:VEVENT
BEGIN:VEVENT
DTSTART;VALUE=DATE:20200708
DTEND;VALUE=DATE:20200712
DTSTAMP:20260419T213607
CREATED:20200331T070726Z
LAST-MODIFIED:20200331T070726Z
UID:7066-1594166400-1594511999@xn--sderbrkehembygdsfrening-z7b95bra.se
SUMMARY:Konst runt Barken
DESCRIPTION:8-11/7 Konst runt Barken Paul Eriksson museet hålls öppet dessa dagar. Konst av Bertil Johnsson visas i Gamla Shell-macken\, Bergsmansvägen 28. 
URL:https://xn--sderbrkehembygdsfrening-z7b95bra.se/event/konst-runt-barken/
END:VEVENT
BEGIN:VEVENT
DTSTART;TZID=Europe/Stockholm:20200704T140000
DTEND;TZID=Europe/Stockholm:20200704T150000
DTSTAMP:20260419T213607
CREATED:20200331T065131Z
LAST-MODIFIED:20200331T065131Z
UID:7051-1593871200-1593874800@xn--sderbrkehembygdsfrening-z7b95bra.se
SUMMARY:Rundvandring i Söderbärke kyrkby
DESCRIPTION:Välkommen på en rundvandring i Söderbärke kyrkby\nTuren börjar vid Söderbärke hembygdsgård och fortsätter till kyrkan\, Paul Erikssonmuseet och den gamla brandstationen.\nFöre eller efter turen kan du passa på att fika i trevliga Café Bagarstugan på Hembygdsgårdens tun med utsikt över Barken och handla lokalt hantverk i Hantverksboden.\n\nDagar: 2 juli\, 3 juli och 4 juli\nStart: kl 14 vid Hembygdsgården\nPris: Gratis\nArrangör: Söderbärke hembygdsförening
URL:https://xn--sderbrkehembygdsfrening-z7b95bra.se/event/rundvandring-i-soderbarke-kyrkby-3/
END:VEVENT
BEGIN:VEVENT
DTSTART;TZID=Europe/Stockholm:20200703T140000
DTEND;TZID=Europe/Stockholm:20200703T150000
DTSTAMP:20260419T213607
CREATED:20200331T065038Z
LAST-MODIFIED:20200331T065038Z
UID:7048-1593784800-1593788400@xn--sderbrkehembygdsfrening-z7b95bra.se
SUMMARY:Rundvandring i Söderbärke kyrkby
DESCRIPTION:Välkommen på en rundvandring i Söderbärke kyrkby\nTuren börjar vid Söderbärke hembygdsgård och fortsätter till kyrkan\, Paul Erikssonmuseet och den gamla brandstationen.\nFöre eller efter turen kan du passa på att fika i trevliga Café Bagarstugan på Hembygdsgårdens tun med utsikt över Barken och handla lokalt hantverk i Hantverksboden.\n\nDagar: 2 juli\, 3 juli och 4 juli\nStart: kl 14 vid Hembygdsgården\nPris: Gratis\nArrangör: Söderbärke hembygdsförening
URL:https://xn--sderbrkehembygdsfrening-z7b95bra.se/event/rundvandring-i-soderbarke-kyrkby-2/
END:VEVENT
BEGIN:VEVENT
DTSTART;TZID=Europe/Stockholm:20200702T140000
DTEND;TZID=Europe/Stockholm:20200702T150000
DTSTAMP:20260419T213607
CREATED:20200331T064832Z
LAST-MODIFIED:20200331T064912Z
UID:7046-1593698400-1593702000@xn--sderbrkehembygdsfrening-z7b95bra.se
SUMMARY:Rundvandring i Söderbärke kyrkby
DESCRIPTION:Välkommen på en rundvandring i Söderbärke kyrkby\nTuren börjar vid Söderbärke hembygdsgård och fortsätter till kyrkan\, Paul Erikssonmuseet och den gamla brandstationen.\nFöre eller efter turen kan du passa på att fika i trevliga Café Bagarstugan på Hembygdsgårdens tun med utsikt över Barken och handla lokalt hantverk i Hantverksboden.\n\nDagar: 2 juli\, 3 juli och 4 juli\nStart: kl 14 vid Hembygdsgården\nPris: Gratis\nArrangör: Söderbärke hembygdsförening
URL:https://xn--sderbrkehembygdsfrening-z7b95bra.se/event/rundvandring-i-soderbarke-kyrkby/
END:VEVENT
BEGIN:VEVENT
DTSTART;TZID=Europe/Stockholm:20200628T110000
DTEND;TZID=Europe/Stockholm:20200628T123000
DTSTAMP:20260419T213607
CREATED:20200331T071619Z
LAST-MODIFIED:20200331T071724Z
UID:7073-1593342000-1593347400@xn--sderbrkehembygdsfrening-z7b95bra.se
SUMMARY:Gudstjänster på Tunet
DESCRIPTION:Kyrkan går utomhus sommartid. Sommaren 2020 kommer gudstjänster att hållas på Tunet 28 juni\, 12 och 19 juli samt 2 och 16 aug. Vid regn hålls gudstjänsterna i kyrkan. 
URL:https://xn--sderbrkehembygdsfrening-z7b95bra.se/event/gudstjanster-pa-tunet/
END:VEVENT
BEGIN:VEVENT
DTSTART;VALUE=DATE:20200627
DTEND;VALUE=DATE:20200706
DTSTAMP:20260419T213607
CREATED:20200331T070620Z
LAST-MODIFIED:20200331T070957Z
UID:7064-1593216000-1593993599@xn--sderbrkehembygdsfrening-z7b95bra.se
SUMMARY:Järnruttenveckan
DESCRIPTION:27/6 – 5/7 Järnruttenveckan Ekomuseum Bergslagens aktivitetsvecka. Söderbärke kyrka visar material med sjöanknytning. \nSöderbärke hembygdsgård och kyrkby – guidad rundvandring 2\,3 och 4 juli klockan 14. Samling vid Hembygdsgården. Se Järnruttenveckans alla aktiviteter på www.ekomuseum.se 
URL:https://xn--sderbrkehembygdsfrening-z7b95bra.se/event/jarnruttenveckan/
END:VEVENT
BEGIN:VEVENT
DTSTART;VALUE=DATE:20200619
DTEND;VALUE=DATE:20200620
DTSTAMP:20260419T213607
CREATED:20200331T070038Z
LAST-MODIFIED:20200423T052814Z
UID:7058-1592524800-1592611199@xn--sderbrkehembygdsfrening-z7b95bra.se
SUMMARY:Midsommarfirande - INSTÄLLT
DESCRIPTION:VÅRT MIDSOMMARFIRANDE ÄR INSTÄLLT \n19/6 kl 9 Vi klär majstången och gör i ordning Hagudden inför midsommarfirandet. Ta med kaffekorg.  \n19/6 kl 15  Traditionellt midsommarfirande. Lekar för stora och små Musikanter under Gunnar Viréhn. Lotterier\, servering\, varm korv.  Entré 30 kr. Fritt för barn under 12 år och besökare i folkdräkt.  \n 
URL:https://xn--sderbrkehembygdsfrening-z7b95bra.se/event/midsommarfirande/
END:VEVENT
BEGIN:VEVENT
DTSTART;TZID=Europe/Stockholm:20200606T180000
DTEND;TZID=Europe/Stockholm:20200606T200000
DTSTAMP:20260419T213607
CREATED:20200331T065833Z
LAST-MODIFIED:20200519T112606Z
UID:7056-1591466400-1591473600@xn--sderbrkehembygdsfrening-z7b95bra.se
SUMMARY:Trefaldighetsafton vid Trefaldighetskällan - INSTÄLLT
DESCRIPTION:Evenemanget är inställt pga Coronapandemin. \nTrefaldighetsafton vid Trefaldighetskällan Avfärd kl 18 från Hembygdsgården. Kl 19 Musik med Gunnar Viréhn och Co. Kåseri.  \n  \n \n 
URL:https://xn--sderbrkehembygdsfrening-z7b95bra.se/event/trefaldighetsafton-vid-trefaldighetskallan/
END:VEVENT
BEGIN:VEVENT
DTSTART;TZID=Europe/Stockholm:20200522T090000
DTEND;TZID=Europe/Stockholm:20200522T120000
DTSTAMP:20260419T213607
CREATED:20200331T065551Z
LAST-MODIFIED:20200331T065551Z
UID:7054-1590138000-1590148800@xn--sderbrkehembygdsfrening-z7b95bra.se
SUMMARY:Vårstädning på Hembygdsgården
DESCRIPTION:22/5 kl 9 Vårstädning på Hembygdsgården Vi snyggar upp och gör det fräscht både inomhus och ute. Ta med städgrejer och kaffekorg. 
URL:https://xn--sderbrkehembygdsfrening-z7b95bra.se/event/varstadning-pa-hembygdsgarden/
END:VEVENT
BEGIN:VEVENT
DTSTART;TZID=Europe/Stockholm:20200430T193000
DTEND;TZID=Europe/Stockholm:20200430T203000
DTSTAMP:20260419T213607
CREATED:20200331T063928Z
LAST-MODIFIED:20200401T095442Z
UID:7039-1588275000-1588278600@xn--sderbrkehembygdsfrening-z7b95bra.se
SUMMARY:Valborgsfirande på Kyrkudden - INSTÄLLT
DESCRIPTION:INSTÄLLT PGA CORONAUTBROTTET \n30/4 kl 19.30  Sång av Söderbärkekören. Vårtal av Elin Norén. Efter erbjuds fika i Församlingshemmet.
URL:https://xn--sderbrkehembygdsfrening-z7b95bra.se/event/valborgsfirande-pa-kyrkudden/
LOCATION:Kyrkudden\, Söderbärke
END:VEVENT
END:VCALENDAR